BEGIN:VCALENDAR
VERSION:2.0
PRODID:-//Maryland Schools - ECPv6.15.20//NONSGML v1.0//EN
CALSCALE:GREGORIAN
METHOD:PUBLISH
X-WR-CALNAME:Maryland Schools
X-ORIGINAL-URL:https://mpischool.com
X-WR-CALDESC:Events for Maryland Schools
REFRESH-INTERVAL;VALUE=DURATION:PT1H
X-Robots-Tag:noindex
X-PUBLISHED-TTL:PT1H
BEGIN:VTIMEZONE
TZID:Europe/Paris
BEGIN:DAYLIGHT
TZOFFSETFROM:+0100
TZOFFSETTO:+0200
TZNAME:CEST
DTSTART:20240331T010000
END:DAYLIGHT
BEGIN:STANDARD
TZOFFSETFROM:+0200
TZOFFSETTO:+0100
TZNAME:CET
DTSTART:20241027T010000
END:STANDARD
BEGIN:DAYLIGHT
TZOFFSETFROM:+0100
TZOFFSETTO:+0200
TZNAME:CEST
DTSTART:20250330T010000
END:DAYLIGHT
BEGIN:STANDARD
TZOFFSETFROM:+0200
TZOFFSETTO:+0100
TZNAME:CET
DTSTART:20251026T010000
END:STANDARD
BEGIN:DAYLIGHT
TZOFFSETFROM:+0100
TZOFFSETTO:+0200
TZNAME:CEST
DTSTART:20260329T010000
END:DAYLIGHT
BEGIN:STANDARD
TZOFFSETFROM:+0200
TZOFFSETTO:+0100
TZNAME:CET
DTSTART:20261025T010000
END:STANDARD
END:VTIMEZONE
BEGIN:VTIMEZONE
TZID:UTC
BEGIN:STANDARD
TZOFFSETFROM:+0000
TZOFFSETTO:+0000
TZNAME:UTC
DTSTART:20200101T000000
END:STANDARD
END:VTIMEZONE
BEGIN:VEVENT
DTSTART;VALUE=DATE:20250517
DTEND;VALUE=DATE:20251101
DTSTAMP:20260425T122927
CREATED:20220313T100721Z
LAST-MODIFIED:20250517T094102Z
UID:977-1747440000-1761955199@mpischool.com
SUMMARY:Entrance Exam for 2025/2026
DESCRIPTION:Entrance exam into \,junior and secondary school for 2025/2026 academic session/\nForms are now on sale.
URL:https://mpischool.com/event/entrance-exam-for-2025-2026/
CATEGORIES:School
END:VEVENT
BEGIN:VEVENT
DTSTART;VALUE=DATE:20241012
DTEND;VALUE=DATE:20241015
DTSTAMP:20260425T122927
CREATED:20170208T114226Z
LAST-MODIFIED:20241012T180529Z
UID:197-1728691200-1728950399@mpischool.com
SUMMARY:School of Discipleship
DESCRIPTION:School of Discipleship Parents Information Session - 1School of Discipleship Parents Information Session - 2	\n	\n	\n\n	\n\n		\n	\n	\n	\n	\n		School of Discipleship Parents Information Session - 2	\n	\n	\n\n	\nParents information session on the MPIS School of Discipleship Program. \nThank you for attending \n  \n 
URL:https://mpischool.com/event/school-of-discipleship/
CATEGORIES:School
END:VEVENT
BEGIN:VEVENT
DTSTART;TZID=UTC:20211124T101800
DTEND;TZID=UTC:20231112T170000
DTSTAMP:20260425T122927
CREATED:20170213T084054Z
LAST-MODIFIED:20220313T083617Z
UID:195-1637749080-1699808400@mpischool.com
SUMMARY:Board Meeting
DESCRIPTION:
URL:https://mpischool.com/event/board-meeting/
ATTACH;FMTTYPE=image/jpeg:https://mpischool.com/wp-content/uploads/2021/11/WhatsApp-Image-2021-07-26-at-11.25.57-PM-1.jpeg
END:VEVENT
BEGIN:VEVENT
DTSTART;TZID=UTC:20211124T101800
DTEND;TZID=UTC:20230730T080000
DTSTAMP:20260425T122927
CREATED:20170203T114108Z
LAST-MODIFIED:20220208T055741Z
UID:198-1637749080-1690704000@mpischool.com
SUMMARY:Friends of the School
DESCRIPTION:
URL:https://mpischool.com/event/friendsoftheschool/
CATEGORIES:School
ATTACH;FMTTYPE=image/jpeg:https://mpischool.com/wp-content/uploads/2021/11/IMG_1119.JPG-scaled.jpg
END:VEVENT
BEGIN:VEVENT
DTSTART;VALUE=DATE:20211124
DTEND;VALUE=DATE:20240708
DTSTAMP:20260425T122927
CREATED:20170208T114325Z
LAST-MODIFIED:20220208T060239Z
UID:196-1637712000-1720396799@mpischool.com
SUMMARY:Our Curriculum
DESCRIPTION:
URL:https://mpischool.com/event/our-curriculum/
CATEGORIES:School
ATTACH;FMTTYPE=image/jpeg:https://mpischool.com/wp-content/uploads/2021/11/IMG_1138.JPG-1-scaled.jpg
END:VEVENT
END:VCALENDAR